
		
	BEGIN:VCALENDAR
VERSION:2.0
PRODID:-//Congregation L&#039;Dor V&#039;Dor - Oakland Little Neck Jewish Center - ECPv4.6.20.1//NONSGML v1.0//EN
CALSCALE:GREGORIAN
METHOD:PUBLISH
X-WR-CALNAME:Congregation L&#039;Dor V&#039;Dor - Oakland Little Neck Jewish Center
X-ORIGINAL-URL:http://olnjc.org
X-WR-CALDESC:Events for Congregation L&#039;Dor V&#039;Dor - Oakland Little Neck Jewish Center
BEGIN:VEVENT
DTSTART;VALUE=DATE:20230630
DTEND;VALUE=DATE:20230701
DTSTAMP:20260419T181512
CREATED:20230515T160700Z
LAST-MODIFIED:20230515T160700Z
UID:21964-1688097600-1688183999@olnjc.org
SUMMARY:Kabbalat Shabbat Service 7:00 pm
DESCRIPTION:
URL:http://olnjc.org/event/kabbalat-shabbat-service-700-pm-2/
END:VEVENT
END:VCALENDAR