
		
	BEGIN:VCALENDAR
VERSION:2.0
PRODID:-//Congregation L&#039;Dor V&#039;Dor - Oakland Little Neck Jewish Center - ECPv4.6.20.1//NONSGML v1.0//EN
CALSCALE:GREGORIAN
METHOD:PUBLISH
X-WR-CALNAME:Congregation L&#039;Dor V&#039;Dor - Oakland Little Neck Jewish Center
X-ORIGINAL-URL:http://olnjc.org
X-WR-CALDESC:Events for Congregation L&#039;Dor V&#039;Dor - Oakland Little Neck Jewish Center
BEGIN:VEVENT
DTSTART;VALUE=DATE:20230623
DTEND;VALUE=DATE:20230624
DTSTAMP:20260422T065552
CREATED:20220801T140948Z
LAST-MODIFIED:20230515T161555Z
UID:21197-1687492800-1687579199@olnjc.org
SUMMARY:Kabbalat Shabbat Service 7:00 pmBoard of Trustee Inauguration
DESCRIPTION:
URL:http://olnjc.org/event/kabbalat-shabbat-service-600-pm-173/
END:VEVENT
END:VCALENDAR