
		
	BEGIN:VCALENDAR
VERSION:2.0
PRODID:-//Congregation L&#039;Dor V&#039;Dor - Oakland Little Neck Jewish Center - ECPv4.6.20.1//NONSGML v1.0//EN
CALSCALE:GREGORIAN
METHOD:PUBLISH
X-WR-CALNAME:Congregation L&#039;Dor V&#039;Dor - Oakland Little Neck Jewish Center
X-ORIGINAL-URL:http://olnjc.org
X-WR-CALDESC:Events for Congregation L&#039;Dor V&#039;Dor - Oakland Little Neck Jewish Center
BEGIN:VEVENT
DTSTART;VALUE=DATE:20230616
DTEND;VALUE=DATE:20230617
DTSTAMP:20260422T182347
CREATED:20220801T140945Z
LAST-MODIFIED:20230515T162154Z
UID:21190-1686888000-1686974399@olnjc.org
SUMMARY:Shabbabecue 5:45 pmKabbalat Shabbat Service 7:00 pm
DESCRIPTION:
URL:http://olnjc.org/event/kabbalat-shabbat-service-600-pm-172/
END:VEVENT
END:VCALENDAR