
		
	BEGIN:VCALENDAR
VERSION:2.0
PRODID:-//Congregation L&#039;Dor V&#039;Dor - Oakland Little Neck Jewish Center - ECPv4.6.20.1//NONSGML v1.0//EN
CALSCALE:GREGORIAN
METHOD:PUBLISH
X-WR-CALNAME:Congregation L&#039;Dor V&#039;Dor - Oakland Little Neck Jewish Center
X-ORIGINAL-URL:http://olnjc.org
X-WR-CALDESC:Events for Congregation L&#039;Dor V&#039;Dor - Oakland Little Neck Jewish Center
BEGIN:VEVENT
DTSTART;VALUE=DATE:20230609
DTEND;VALUE=DATE:20230610
DTSTAMP:20260423T053137
CREATED:20220801T140942Z
LAST-MODIFIED:20230515T104209Z
UID:21183-1686283200-1686369599@olnjc.org
SUMMARY:Kabbalat Shabbat Service 7:00 pm
DESCRIPTION:
URL:http://olnjc.org/event/kabbalat-shabbat-service-600-pm-171/
END:VEVENT
END:VCALENDAR