
		
	BEGIN:VCALENDAR
VERSION:2.0
PRODID:-//Congregation L&#039;Dor V&#039;Dor - Oakland Little Neck Jewish Center - ECPv4.6.20.1//NONSGML v1.0//EN
CALSCALE:GREGORIAN
METHOD:PUBLISH
X-WR-CALNAME:Congregation L&#039;Dor V&#039;Dor - Oakland Little Neck Jewish Center
X-ORIGINAL-URL:http://olnjc.org
X-WR-CALDESC:Events for Congregation L&#039;Dor V&#039;Dor - Oakland Little Neck Jewish Center
BEGIN:VEVENT
DTSTART;VALUE=DATE:20230527
DTEND;VALUE=DATE:20230528
DTSTAMP:20260424T014236
CREATED:20220801T140937Z
LAST-MODIFIED:20230515T103316Z
UID:21170-1685160000-1685246399@olnjc.org
SUMMARY:Shavuot Day IIShacharit 9:00 amYizkor 11:15 am
DESCRIPTION:
URL:http://olnjc.org/event/shabbat-morning-service-900-am-144/
END:VEVENT
END:VCALENDAR