
		
	BEGIN:VCALENDAR
VERSION:2.0
PRODID:-//Congregation L&#039;Dor V&#039;Dor - Oakland Little Neck Jewish Center - ECPv4.6.20.1//NONSGML v1.0//EN
CALSCALE:GREGORIAN
METHOD:PUBLISH
X-WR-CALNAME:Congregation L&#039;Dor V&#039;Dor - Oakland Little Neck Jewish Center
X-ORIGINAL-URL:http://olnjc.org
X-WR-CALDESC:Events for Congregation L&#039;Dor V&#039;Dor - Oakland Little Neck Jewish Center
BEGIN:VEVENT
DTSTART;VALUE=DATE:20230520
DTEND;VALUE=DATE:20230521
DTSTAMP:20260424T142622
CREATED:20220801T140934Z
LAST-MODIFIED:20230515T103104Z
UID:21163-1684555200-1684641599@olnjc.org
SUMMARY:Shabbat Morning Service 9:00 amIsrael Bond Program
DESCRIPTION:
URL:http://olnjc.org/event/shabbat-morning-service-900-am-143/
END:VEVENT
END:VCALENDAR