
		
	BEGIN:VCALENDAR
VERSION:2.0
PRODID:-//Congregation L&#039;Dor V&#039;Dor - Oakland Little Neck Jewish Center - ECPv4.6.20.1//NONSGML v1.0//EN
CALSCALE:GREGORIAN
METHOD:PUBLISH
X-WR-CALNAME:Congregation L&#039;Dor V&#039;Dor - Oakland Little Neck Jewish Center
X-ORIGINAL-URL:http://olnjc.org
X-WR-CALDESC:Events for Congregation L&#039;Dor V&#039;Dor - Oakland Little Neck Jewish Center
BEGIN:VEVENT
DTSTART;VALUE=DATE:20230519
DTEND;VALUE=DATE:20230520
DTSTAMP:20260424T160839
CREATED:20220801T140933Z
LAST-MODIFIED:20230515T100600Z
UID:21162-1684468800-1684555199@olnjc.org
SUMMARY:Kabbalat Shabbat Service 7:00 pm
DESCRIPTION:
URL:http://olnjc.org/event/kabbalat-shabbat-service-600-pm-168/
END:VEVENT
END:VCALENDAR