
		
	BEGIN:VCALENDAR
VERSION:2.0
PRODID:-//Congregation L&#039;Dor V&#039;Dor - Oakland Little Neck Jewish Center - ECPv4.6.20.1//NONSGML v1.0//EN
CALSCALE:GREGORIAN
METHOD:PUBLISH
X-WR-CALNAME:Congregation L&#039;Dor V&#039;Dor - Oakland Little Neck Jewish Center
X-ORIGINAL-URL:http://olnjc.org
X-WR-CALDESC:Events for Congregation L&#039;Dor V&#039;Dor - Oakland Little Neck Jewish Center
BEGIN:VEVENT
DTSTART;VALUE=DATE:20230506
DTEND;VALUE=DATE:20230507
DTSTAMP:20260425T153319
CREATED:20220801T140928Z
LAST-MODIFIED:20220801T140928Z
UID:21149-1683345600-1683431999@olnjc.org
SUMMARY:Shabbat Morning Service 9:00 am
DESCRIPTION:
URL:http://olnjc.org/event/shabbat-morning-service-900-am-141/
END:VEVENT
END:VCALENDAR